BEGIN:VCALENDAR
VERSION:2.0
PRODID:-//goodsamcobb.org//NONSGML kigkonsult.se iCalcreator 2.30.10//
CALSCALE:GREGORIAN
METHOD:PUBLISH
UID:05e32177-4df2-468b-8c6c-38b6e4382084
X-WR-CALDESC:Gain practical tools to stay grounded and resilient when life 
 becomes overwhelming. \nSign up for the FREE Anxiety & Stress Management w
 orkshop taking place on Friday\, July 25\, 2025\, at 12:00 PM at Good Sama
 ritan Health Center of Cobb.
X-WR-RELCALID:b397170165131344133748f392cf353a
X-WR-TIMEZONE:America/New_York
BEGIN:VTIMEZONE
TZID:America/New_York
BEGIN:STANDARD
TZNAME:EST
DTSTART:20241103T020000
TZOFFSETFROM:-0400
TZOFFSETTO:-0500
RDATE:20251102T020000
RDATE:20261101T020000
END:STANDARD
BEGIN:DAYLIGHT
TZNAME:EDT
DTSTART:20250309T020000
TZOFFSETFROM:-0500
TZOFFSETTO:-0400
RDATE:20260308T020000
END:DAYLIGHT
END:VTIMEZONE
BEGIN:VEVENT
UID:b457e21b-82ce-4bfc-b5d5-9217f6f9dc34
DTSTAMP:20260424T223502Z
DESCRIPTION:Gain practical tools to stay grounded and resilient when life b
 ecomes overwhelming. \nSign up for the FREE Anxiety & Stress Management wo
 rkshop taking place on Friday\, July 25\, 2025\, at 12:00 PM at Good Samar
 itan Health Center of Cobb.
DTSTART;TZID=America/New_York:20250725T120000
DTEND;TZID=America/New_York:20250725T130000
LOCATION:1605 Roberta Drive SW\, Marietta\, GA 30008 US
SUMMARY:Anxiety & Stress Management Workshop
END:VEVENT
END:VCALENDAR
