BEGIN:VCALENDAR
VERSION:2.0
PRODID:-//goodsamcobb.org//NONSGML kigkonsult.se iCalcreator 2.30.10//
CALSCALE:GREGORIAN
METHOD:PUBLISH
UID:4878ab2b-2084-490d-8ccd-ec66cfad6b29
X-WR-CALDESC:Parenting with Patience is a practical workshop that helps you
  stay calm\, set healthy boundaries\, and connect with your child\, withou
 t losing your cool.\nSign up for the FREE Parenting with Patience workshop
 \, open to everyone in the community\, taking place on Friday\, September 
 19\, 2025\, at 12:00 PM at Good Samaritan Health Center of Cobb.
X-WR-RELCALID:cb4e7bb7f73390b6ee8c6c48bac0b08c
X-WR-TIMEZONE:America/New_York
BEGIN:VTIMEZONE
TZID:America/New_York
BEGIN:STANDARD
TZNAME:EST
DTSTART:20241103T020000
TZOFFSETFROM:-0400
TZOFFSETTO:-0500
RDATE:20251102T020000
RDATE:20261101T020000
END:STANDARD
BEGIN:DAYLIGHT
TZNAME:EDT
DTSTART:20250309T020000
TZOFFSETFROM:-0500
TZOFFSETTO:-0400
RDATE:20260308T020000
RDATE:20270314T020000
END:DAYLIGHT
END:VTIMEZONE
BEGIN:VEVENT
UID:f21a5ff9-a805-4417-91d9-76f433de7bfb
DTSTAMP:20260424T193209Z
DESCRIPTION:Parenting with Patience is a practical workshop that helps you 
 stay calm\, set healthy boundaries\, and connect with your child\, without
  losing your cool.\nSign up for the FREE Parenting with Patience workshop\
 , open to everyone in the community\, taking place on Friday\, September 1
 9\, 2025\, at 12:00 PM at Good Samaritan Health Center of Cobb.
DTSTART;TZID=America/New_York:20250919T120000
DTEND;TZID=America/New_York:20250919T130000
LOCATION:1605 Roberta Drive SW\, Marietta\, GA 30008 US
SUMMARY:Parenting with Patience
END:VEVENT
END:VCALENDAR
