BEGIN:VCALENDAR
VERSION:2.0
PRODID:-//goodsamcobb.org//NONSGML kigkonsult.se iCalcreator 2.30.10//
CALSCALE:GREGORIAN
METHOD:PUBLISH
UID:e90ec5e9-3784-4a31-ae12-e6464106e325
X-WR-CALDESC:Good Samaritan Health Center of Cobb\, a 501(c)3 non-nonprofit
  organization serving those in the Cobb and surrounding communities since 
 2006\, holds an annual charity golf tournament supported by businesses\, i
 ndividuals\, churches\, and organizations. The community comes together wi
 th one goal in mind\, to demonstrate the love of Christ by providing quali
 ty healthcare to the uninsured\, underinsured\, working poor\, and those i
 n need.
X-WR-RELCALID:59bc018c1516aa4e14a1b462330c90dc
X-WR-TIMEZONE:America/New_York
BEGIN:VTIMEZONE
TZID:America/New_York
BEGIN:STANDARD
TZNAME:EST
DTSTART:20251102T020000
TZOFFSETFROM:-0400
TZOFFSETTO:-0500
RDATE:20261101T020000
RDATE:20271107T020000
END:STANDARD
BEGIN:DAYLIGHT
TZNAME:EDT
DTSTART:20260308T020000
TZOFFSETFROM:-0500
TZOFFSETTO:-0400
RDATE:20270314T020000
RDATE:20280312T020000
END:DAYLIGHT
END:VTIMEZONE
BEGIN:VEVENT
UID:9f107d23-33aa-4fc8-8c73-69b82e43208a
DTSTAMP:20260422T234147Z
DESCRIPTION:Good Samaritan Health Center of Cobb\, a 501(c)3 non-nonprofit 
 organization serving those in the Cobb and surrounding communities since 2
 006\, holds an annual charity golf tournament supported by businesses\, in
 dividuals\, churches\, and organizations. The community comes together wit
 h one goal in mind\, to demonstrate the love of Christ by providing qualit
 y healthcare to the uninsured\, underinsured\, working poor\, and those in
  need.
DTSTART;TZID=America/New_York:20261012T090000
DTEND;TZID=America/New_York:20261012T163000
LOCATION:City Club Marietta\, 510 Powder Springs ST SE\, Marietta\, GA 3006
 4 US
SUMMARY:2026 Good Samaritan Health Center of Cobb Charity Golf Tournament
END:VEVENT
END:VCALENDAR
